BEGIN:VCALENDAR
PRODID:-//eluceo/ical//2.0/EN
VERSION:2.0
CALSCALE:GREGORIAN
BEGIN:VEVENT
UID:d35840ffe3bd485d1023968f30ec5005
DTSTAMP:20260422T002321Z
SUMMARY:Shaarai Torah Meeting
DESCRIPTION:Jewish Federation of Central Massachusetts\nCalendar\nhttps://j
 ewishcentralmass.org/calendar/shaarai-torah-meeting\n\nShaarai Torah Meeti
 ng\n\nMay 21\, 22\n\nTime TBD
DTSTART;TZID=America/New_York:20250521T180000
DTEND;TZID=America/New_York:20250521T200000
END:VEVENT
END:VCALENDAR
