BEGIN:VCALENDAR
PRODID:-//eluceo/ical//2.0/EN
VERSION:2.0
CALSCALE:GREGORIAN
BEGIN:VEVENT
UID:da8e0d53b9392af521290aa6fdd547c5
DTSTAMP:20260421T205938Z
SUMMARY:Informational Breakfast - Central MA Historical Society
DESCRIPTION:Jewish Federation of Central Massachusetts\nCalendar\nhttps://j
 ewishcentralmass.org/calendar/shaarai-torah-history-event\n\nInformational
  Breakfast for the Central MA Jewish Historical Society\nSunday\, June 3\
 n10:00AM\nShaarai Torah West\,\n835 Pleasant St. Worcester\nLearn about th
 e Central MA Jewish Historical Society and how you can get involved!\nNO C
 HARGE\nMUST RSVP TO LISA at 508-756-1543 by May 25
DTSTART;TZID=America/New_York:20180603T100000
DTEND;TZID=America/New_York:20180603T120000
END:VEVENT
END:VCALENDAR
