BEGIN:VCALENDAR
PRODID:-//eluceo/ical//2.0/EN
VERSION:2.0
CALSCALE:GREGORIAN
BEGIN:VEVENT
UID:0621e74baa7b903a0a63d7f94f589365
DTSTAMP:20260422T021956Z
SUMMARY:Session Special Ed During Covid
DESCRIPTION:Jewish Federation of Central Massachusetts\nCalendar\nhttps://j
 ewishcentralmass.org/calendar/session-special-ed-during-covid\n\nSession S
 pecial Ed During Covid - November 4th\, 8:00 pm via Zoom
DTSTART;TZID=America/New_York:20201104T200000
DTEND;TZID=America/New_York:20201104T220000
END:VEVENT
END:VCALENDAR
