BEGIN:VCALENDAR
PRODID:-//eluceo/ical//2.0/EN
VERSION:2.0
CALSCALE:GREGORIAN
BEGIN:VEVENT
UID:f93700da4472ac3c1a0d852855a85d91
DTSTAMP:20260422T052836Z
SUMMARY:Security Training- Temple Emanuel Sinai
DESCRIPTION:Jewish Federation of Central Massachusetts\nCalendar\nhttps://j
 ewishcentralmass.org/calendar/security-training-temple-emanuel-sinai\n\nSe
 curity Training - Temple Emanuel Sinai\n\n12:00 - 5:00 pm
DTSTART;TZID=America/New_York:20200123T120000
DTEND;TZID=America/New_York:20200123T170000
END:VEVENT
END:VCALENDAR
