BEGIN:VCALENDAR
PRODID:-//eluceo/ical//2.0/EN
VERSION:2.0
CALSCALE:GREGORIAN
BEGIN:VEVENT
UID:90706808384d41497fba2fec493ef953
DTSTAMP:20260422T183123Z
SUMMARY:Security seminar with CJP/JEMS
DESCRIPTION:Jewish Federation of Central Massachusetts\nCalendar\nhttps://j
 ewishcentralmass.org/calendar/security-training-seminar\n\nSecurity semina
 r with CJP/JEMS \n\nThursday\, Nov 21st – 6:30 pm\n\nWe are planning a 
 security seminar with experts from Combined Jewish Philanthropies [Boston 
 Jewish Federation] and Jewish Emergency Management System [JEMS] –at 6:3
 0pm on Thursday\, November 21st at Congregation B'nai Shalom in Westboroug
 h.  The program is coordinated by Congregation B'nai Shalom\, CJP\, and J
 ewish Federation of Central MA. Thank you to B'nai Shalom for arranging th
 is training and for hosting it. Please RSV...
DTSTART;TZID=America/New_York:20191121T183000
DTEND;TZID=America/New_York:20191121T210000
END:VEVENT
END:VCALENDAR
