BEGIN:VCALENDAR
PRODID:-//eluceo/ical//2.0/EN
VERSION:2.0
CALSCALE:GREGORIAN
BEGIN:VEVENT
UID:18fcac7a4f3a8f2d744b7089668bb5fe
DTSTAMP:20260424T044339Z
SUMMARY:Security Presentation & Training
DESCRIPTION:Jewish Federation of Central Massachusetts\nCalendar\nhttps://j
 ewishcentralmass.org/calendar/security-presentation-training\n\nSecurity p
 resentation and training.  \n\nMarch 20 12:00-1:30PM\n\nLocation:Federati
 on
DTSTART;TZID=America/New_York:20190320T120000
DTEND;TZID=America/New_York:20190320T133000
END:VEVENT
END:VCALENDAR
