BEGIN:VCALENDAR
PRODID:-//eluceo/ical//2.0/EN
VERSION:2.0
CALSCALE:GREGORIAN
BEGIN:VEVENT
UID:90a27517501aa7ef2379bd56dfd8e9c2
DTSTAMP:20260424T103506Z
SUMMARY:Scholar in Residence Shabbat
DESCRIPTION:Jewish Federation of Central Massachusetts\nCalendar\nhttps://j
 ewishcentralmass.org/calendar/scholar-in-residence-shabbat\n\nScholar in R
 esidence Shabbat featuring Professor Everett Fox and Rabbi Cherie Koller-F
 ox.  Our guest scholars will lead services and teach How Torah Speaks to 
 Us Today.\n\nCongregation Agudat Achim\n\n268 Washington St.\n\nLeominster
 \, MA 01453\n\n978-534-6121\n\n \n\nFriday\, November 4\, 2016  Services
  begin at 6:30 pm and will be followed by an oneg.\n\nSaturday\, November 
 5\, 2016  Services begin at 9:30 and will be followed by a Kiddush lunche
 on.\n\n \n\nThere is no charge for the event....
DTSTART;TZID=America/New_York:20161104T183000
DTEND;TZID=America/New_York:20161104T210000
END:VEVENT
END:VCALENDAR
