BEGIN:VCALENDAR
PRODID:-//eluceo/ical//2.0/EN
VERSION:2.0
CALSCALE:GREGORIAN
BEGIN:VEVENT
UID:b7adb3e10162689f299ad5d8df7afe2a
DTSTAMP:20260423T223133Z
SUMMARY:Rosh Hashanah - 5785
DESCRIPTION:Jewish Federation of Central Massachusetts\nCalendar\nhttps://j
 ewishcentralmass.org/calendar/rosh-hashanah-5785\n\nRosh Hashanah - 5785
DTSTART;TZID=America/New_York:20241002T180000
DTEND;TZID=America/New_York:20241004T190000
END:VEVENT
END:VCALENDAR
