BEGIN:VCALENDAR
PRODID:-//eluceo/ical//2.0/EN
VERSION:2.0
CALSCALE:GREGORIAN
BEGIN:VEVENT
UID:9ccfdaeeb88f44d250f40a28386f1ff4
DTSTAMP:20260421T204005Z
SUMMARY:ROSH HASHANAH
DESCRIPTION:Jewish Federation of Central Massachusetts\nCalendar\nhttps://j
 ewishcentralmass.org/calendar/rosh-hashanah\n\nROSH HASHANAH
DTSTART;TZID=America/New_York:20130905T000000
DTEND;TZID=America/New_York:20130906T235900
END:VEVENT
END:VCALENDAR
