BEGIN:VCALENDAR
PRODID:-//eluceo/ical//2.0/EN
VERSION:2.0
CALSCALE:GREGORIAN
BEGIN:VEVENT
UID:30ed138618e22ad66ee1b2c47c1dbbdf
DTSTAMP:20260423T134802Z
SUMMARY:Rick Recht ~ Free To Be Tour
DESCRIPTION:Jewish Federation of Central Massachusetts\nCalendar\nhttps://j
 ewishcentralmass.org/calendar/rick-recht-free-to-be-tour\n\nRick Recht ~ F
 ree To Be Tour\n\nWhere: Worcester JCC Auditorium\, 633 Salisbury St\, Wo
 rcester\n\nWhen: Sunday\, November 20 at 3pm\n\nDetails: This event will
  have floor seating\, so feel free to bring a mat or blanket to sit on.\n\
 nMore Info: Click Here
DTSTART;TZID=America/New_York:20161120T150000
DTEND;TZID=America/New_York:20161120T170000
END:VEVENT
END:VCALENDAR
