BEGIN:VCALENDAR
PRODID:-//eluceo/ical//2.0/EN
VERSION:2.0
CALSCALE:GREGORIAN
BEGIN:VEVENT
UID:a5ee8ab23b794efd676e9a2e5fed7579
DTSTAMP:20260421T173945Z
SUMMARY:Remembering Yitzhak Rabin- virtual event
DESCRIPTION:Jewish Federation of Central Massachusetts\nCalendar\nhttps://j
 ewishcentralmass.org/calendar/remembering-yitzhak-rabin-virtual-event\n\nR
 emembering Yitzhak Rabin- virtual event at 6:00 pm
DTSTART;TZID=America/New_York:20211110T180000
DTEND;TZID=America/New_York:20211110T200000
END:VEVENT
END:VCALENDAR
