BEGIN:VCALENDAR
PRODID:-//eluceo/ical//2.0/EN
VERSION:2.0
CALSCALE:GREGORIAN
BEGIN:VEVENT
UID:b2c9ebcde154991d835dd28ee3ea0fc6
DTSTAMP:20260422T100123Z
SUMMARY:Red Sox Jewish Heritage Night 2017
DESCRIPTION:Jewish Federation of Central Massachusetts\nCalendar\nhttps://j
 ewishcentralmass.org/calendar/red-sox-jewish-heritage-night-2017\n\nJFCM G
 oes to Red Sox Jewish Heritage Night\, Tuesday\, June 13th.
DTSTART;TZID=America/New_York:20170613T191000
DTEND;TZID=America/New_York:20170613T220000
END:VEVENT
END:VCALENDAR
