BEGIN:VCALENDAR
PRODID:-//eluceo/ical//2.0/EN
VERSION:2.0
CALSCALE:GREGORIAN
BEGIN:VEVENT
UID:229d07a27b41f774d1d21be72d6e4fe2
DTSTAMP:20260423T042303Z
SUMMARY:Railers for Opening Night with JFCM
DESCRIPTION:Jewish Federation of Central Massachusetts\nCalendar\nhttps://j
 ewishcentralmass.org/calendar/railers-for-opening-night-with-jfcm\n\nRaile
 rs for Opening Night with JFCM at 7:35 pm\n\nClick here for tickets
DTSTART;TZID=America/New_York:20211023T193500
DTEND;TZID=America/New_York:20211023T220000
END:VEVENT
END:VCALENDAR
