BEGIN:VCALENDAR
PRODID:-//eluceo/ical//2.0/EN
VERSION:2.0
CALSCALE:GREGORIAN
BEGIN:VEVENT
UID:922bc1d9028dab83ddf6a72bb3f9e084
DTSTAMP:20260423T194802Z
SUMMARY:Rachel’s Table Trivia Fundraiser
DESCRIPTION:Jewish Federation of Central Massachusetts\nCalendar\nhttps://j
 ewishcentralmass.org/calendar/rachels-table-trivia-fundraiser\n\nRachel’
 s Table Trivia Fundraiser\n\nMonday\, January 29\n\n6:00 - 8:00 pm at Red
 emption Rock Brewing Company
DTSTART;TZID=America/New_York:20240129T180000
DTEND;TZID=America/New_York:20240129T200000
END:VEVENT
END:VCALENDAR
