BEGIN:VCALENDAR
PRODID:-//eluceo/ical//2.0/EN
VERSION:2.0
CALSCALE:GREGORIAN
BEGIN:VEVENT
UID:03d1817ebf2fea045b8b2efe4efddab3
DTSTAMP:20260423T003531Z
SUMMARY:Rachel's Table Special Anniversary Celebration
DESCRIPTION:Jewish Federation of Central Massachusetts\nCalendar\nhttps://j
 ewishcentralmass.org/calendar/rachels-table-special-anniversary-celebratio
 n\n\nCelebration of Rachel's Table Anniversary Year!
DTSTART;TZID=America/New_York:20150414T180000
DTEND;TZID=America/New_York:20150414T200000
END:VEVENT
END:VCALENDAR
