BEGIN:VCALENDAR
PRODID:-//eluceo/ical//2.0/EN
VERSION:2.0
CALSCALE:GREGORIAN
BEGIN:VEVENT
UID:5e9c85eb81ef6b42795f560ebc694e10
DTSTAMP:20260423T074403Z
SUMMARY:Rachel’s Table Retirement Celebration
DESCRIPTION:Jewish Federation of Central Massachusetts\nCalendar\nhttps://j
 ewishcentralmass.org/calendar/rachels-table-retirement-celebration\n\nJune
  14\n\n5:30 - 7:15 pm\n\nRachels Table Retirement Celebration\n\n(We are a
 ware that many attendees will also want to participate in the TES Annual M
 eeting\, we plan to ensure that our program will allow attendance at both 
 events).\n\n 
DTSTART;TZID=America/New_York:20230614T173000
DTEND;TZID=America/New_York:20230614T191500
END:VEVENT
END:VCALENDAR
