BEGIN:VCALENDAR
PRODID:-//eluceo/ical//2.0/EN
VERSION:2.0
CALSCALE:GREGORIAN
BEGIN:VEVENT
UID:5c9e44a095862092267bb13ee81d2cca
DTSTAMP:20260422T150216Z
SUMMARY:Rachel's Table Meat Raffle
DESCRIPTION:Jewish Federation of Central Massachusetts\nCalendar\nhttps://j
 ewishcentralmass.org/calendar/rachels-table-meat-raffle\n\nMarch 8 Rachel'
 s Table is holding a meat raffle 1-4PM Union Tavern
DTSTART;TZID=America/New_York:20200308T130000
DTEND;TZID=America/New_York:20200308T160000
END:VEVENT
END:VCALENDAR
