BEGIN:VCALENDAR
PRODID:-//eluceo/ical//2.0/EN
VERSION:2.0
CALSCALE:GREGORIAN
BEGIN:VEVENT
UID:629790166cd02ac679d196f85d7829bb
DTSTAMP:20260422T025707Z
SUMMARY:Rabbi Fish ADL
DESCRIPTION:Jewish Federation of Central Massachusetts\nCalendar\nhttps://j
 ewishcentralmass.org/calendar/rabbi-fish-adl\n\nJan 9 with Rabbi Fish ADL.
  \n\nTime/location TBD.
DTSTART;TZID=America/New_York:20240109T180000
DTEND;TZID=America/New_York:20240109T200000
END:VEVENT
END:VCALENDAR
