BEGIN:VCALENDAR
PRODID:-//eluceo/ical//2.0/EN
VERSION:2.0
CALSCALE:GREGORIAN
BEGIN:VEVENT
UID:dd97598ae264061ff30c6a0e7036943e
DTSTAMP:20260423T090142Z
SUMMARY:Purim Events at various synagogues
DESCRIPTION:Jewish Federation of Central Massachusetts\nCalendar\nhttps://j
 ewishcentralmass.org/calendar/purim-events-at-various-synagogues\n\nPurim 
 Events at synagogues
DTSTART;TZID=America/New_York:20130223T190000
DTEND;TZID=America/New_York:20130223T193000
END:VEVENT
END:VCALENDAR
