BEGIN:VCALENDAR
PRODID:-//eluceo/ical//2.0/EN
VERSION:2.0
CALSCALE:GREGORIAN
BEGIN:VEVENT
UID:9ac9d656dba7a0dcf615a9ee43ed361e
DTSTAMP:20260421T121355Z
SUMMARY:Purim Community Event 2023
DESCRIPTION:Jewish Federation of Central Massachusetts\nCalendar\nhttps://j
 ewishcentralmass.org/calendar/purim-community-event-2023\n\nSunday\, March
  25th\, 4-8 \n\nPurim Community event. Locale TBD
DTSTART;TZID=America/New_York:20240324T160000
DTEND;TZID=America/New_York:20240324T200000
END:VEVENT
END:VCALENDAR
