BEGIN:VCALENDAR
PRODID:-//eluceo/ical//2.0/EN
VERSION:2.0
CALSCALE:GREGORIAN
BEGIN:VEVENT
UID:a7d02e614e4941bf7dd5c4d25db45bb2
DTSTAMP:20260422T045047Z
SUMMARY:Purim 5785
DESCRIPTION:Jewish Federation of Central Massachusetts\nCalendar\nhttps://j
 ewishcentralmass.org/calendar/purim-5785\n\nPurim
DTSTART;TZID=America/New_York:20250314T000000
DTEND;TZID=America/New_York:20250314T235959
END:VEVENT
END:VCALENDAR
