BEGIN:VCALENDAR
PRODID:-//eluceo/ical//2.0/EN
VERSION:2.0
CALSCALE:GREGORIAN
BEGIN:VEVENT
UID:28ba1ed994a02750f9d6f8da9a484faa
DTSTAMP:20260422T095251Z
SUMMARY:PURIM
DESCRIPTION:Jewish Federation of Central Massachusetts\nCalendar\nhttps://j
 ewishcentralmass.org/calendar/purim\n\nPURIM
DTSTART;TZID=America/New_York:20130224T000000
DTEND;TZID=America/New_York:20130224T235900
END:VEVENT
END:VCALENDAR
