BEGIN:VCALENDAR
PRODID:-//eluceo/ical//2.0/EN
VERSION:2.0
CALSCALE:GREGORIAN
BEGIN:VEVENT
UID:bd69b89f638edd7ca231899beb3e05fe
DTSTAMP:20260421T071218Z
SUMMARY:Program with Israel Consul General
DESCRIPTION:Jewish Federation of Central Massachusetts\nCalendar\nhttps://j
 ewishcentralmass.org/calendar/program-with-israel-consul-general\n\nProgra
 m with Israel Consul General - May 6th at 12:30 pm
DTSTART;TZID=America/New_York:20210506T123000
DTEND;TZID=America/New_York:20210506T143000
END:VEVENT
END:VCALENDAR
