BEGIN:VCALENDAR
PRODID:-//eluceo/ical//2.0/EN
VERSION:2.0
CALSCALE:GREGORIAN
BEGIN:VEVENT
UID:4502fd123cb50eb928687db7ad93ad26
DTSTAMP:20260423T194732Z
SUMMARY:PRESIDENTS DAY
DESCRIPTION:Jewish Federation of Central Massachusetts\nCalendar\nhttps://j
 ewishcentralmass.org/calendar/presidents-day\n\nPRESIDENTS DAY
DTSTART;TZID=America/New_York:20130218T000000
DTEND;TZID=America/New_York:20130218T235900
END:VEVENT
END:VCALENDAR
