BEGIN:VCALENDAR
PRODID:-//eluceo/ical//2.0/EN
VERSION:2.0
CALSCALE:GREGORIAN
BEGIN:VEVENT
UID:e0cccae638a4c52312d857ac29c814cb
DTSTAMP:20260423T111120Z
SUMMARY:Pray and Play with TES_Oct'18
DESCRIPTION:Jewish Federation of Central Massachusetts\nCalendar\nhttps://j
 ewishcentralmass.org/calendar/pray-and-play-with-tes_oct18\n\nPJ Library G
 oes to Pray and Play with Temple Emanuel Sinai\n\nSaturday\, October 20th\
 , 9-11:00am at the Worcester JCC Building\n\nFor kids 6 and under
DTSTART;TZID=America/New_York:20181020T090000
DTEND;TZID=America/New_York:20181020T110000
END:VEVENT
END:VCALENDAR
