BEGIN:VCALENDAR
PRODID:-//eluceo/ical//2.0/EN
VERSION:2.0
CALSCALE:GREGORIAN
BEGIN:VEVENT
UID:447d113325df3c30fbefd41f3c9f4fa4
DTSTAMP:20260421T191106Z
SUMMARY:PJ/PJOW Virtual Trip to Israel
DESCRIPTION:Jewish Federation of Central Massachusetts\nCalendar\nhttps://j
 ewishcentralmass.org/calendar/pjpjow-virtual-trip-to-israel\n\nPJ/PJOW Vir
 tual Trip to Israel
DTSTART;TZID=America/New_York:20210411T150000
DTEND;TZID=America/New_York:20210411T173000
END:VEVENT
END:VCALENDAR
