BEGIN:VCALENDAR
PRODID:-//eluceo/ical//2.0/EN
VERSION:2.0
CALSCALE:GREGORIAN
BEGIN:VEVENT
UID:776a714d6d9ad2270bac18cabeae2231
DTSTAMP:20260423T052948Z
SUMMARY:PJ/PJOW Super Heroes
DESCRIPTION:Jewish Federation of Central Massachusetts\nCalendar\nhttps://j
 ewishcentralmass.org/calendar/pjpjow-super-heros\n\nPJ Library / PJOW Sup
 er Heroes\n\nCome dressed as your favorite Super Hero\, or dress up to sho
 w your super power.\n\nWith Illustrator - Dove Smiley
DTSTART;TZID=America/New_York:20180304T160000
DTEND;TZID=America/New_York:20180304T180000
END:VEVENT
END:VCALENDAR
