BEGIN:VCALENDAR
PRODID:-//eluceo/ical//2.0/EN
VERSION:2.0
CALSCALE:GREGORIAN
BEGIN:VEVENT
UID:9ca14a3b12e74993b1d5abb91ea3da71
DTSTAMP:20260421T174716Z
SUMMARY:PJ/PJOW Summa' Splash Party 2024
DESCRIPTION:Jewish Federation of Central Massachusetts\nCalendar\nhttps://j
 ewishcentralmass.org/calendar/pjpjow-summa-splash-party-2024\n\nPJ/PJOW Su
 mma' Splash Party at the JCC\n\nSunday\, June 23rd\, 2:30-4:30
DTSTART;TZID=America/New_York:20240623T143000
DTEND;TZID=America/New_York:20240623T163000
END:VEVENT
END:VCALENDAR
