BEGIN:VCALENDAR
PRODID:-//eluceo/ical//2.0/EN
VERSION:2.0
CALSCALE:GREGORIAN
BEGIN:VEVENT
UID:f39730e834a95d69dc8e703f5229d8a9
DTSTAMP:20260423T170936Z
SUMMARY:PJ/PJOW Railers Hockey Game
DESCRIPTION:Jewish Federation of Central Massachusetts\nCalendar\nhttps://j
 ewishcentralmass.org/calendar/pjpjow-railers-hockey-game\n\nPJ / PJOW at t
 he Worcester Railers Hockey Game\n\n2/10/19 at 3:05pm
DTSTART;TZID=America/New_York:20180210T150500
DTEND;TZID=America/New_York:20180210T180000
END:VEVENT
END:VCALENDAR
