BEGIN:VCALENDAR
PRODID:-//eluceo/ical//2.0/EN
VERSION:2.0
CALSCALE:GREGORIAN
BEGIN:VEVENT
UID:09c503530aa345845476cdf14fa3adaa
DTSTAMP:20260420T230208Z
SUMMARY:PJ/PJOW newcomer event
DESCRIPTION:Jewish Federation of Central Massachusetts\nCalendar\nhttps://j
 ewishcentralmass.org/calendar/pjpjow-newcomer-event\n\n PJ/PJOW newcomer 
 event\n\nSunday\, September 19th 3-5 pm at JCC
DTSTART;TZID=America/New_York:20210919T150000
DTEND;TZID=America/New_York:20210919T170000
END:VEVENT
END:VCALENDAR
