BEGIN:VCALENDAR
PRODID:-//eluceo/ical//2.0/EN
VERSION:2.0
CALSCALE:GREGORIAN
BEGIN:VEVENT
UID:38eebde268f5337e01aa3ad59fc85a70
DTSTAMP:20260421T222846Z
SUMMARY:PJ/PJOW Hamantashen Making at Eisenberg
DESCRIPTION:Jewish Federation of Central Massachusetts\nCalendar\nhttps://j
 ewishcentralmass.org/calendar/pjpjow-hamantashen-making-at-eisenberg\n\nPJ
 /PJOW Hamantashen Making at Eisenberg Ass'd Living\n\n3/17/18 at 2:00pm
DTSTART;TZID=America/New_York:20190317T140000
DTEND;TZID=America/New_York:20190317T160000
END:VEVENT
END:VCALENDAR
