BEGIN:VCALENDAR
PRODID:-//eluceo/ical//2.0/EN
VERSION:2.0
CALSCALE:GREGORIAN
BEGIN:VEVENT
UID:38c89148b4a61d1a5dd9e997b3e0ffbc
DTSTAMP:20260423T173509Z
SUMMARY:PJ/PJOW Hamantashen Making
DESCRIPTION:Jewish Federation of Central Massachusetts\nCalendar\nhttps://j
 ewishcentralmass.org/calendar/pjpjow-hamantashen-making\n\nPJ/PJOW Hamanta
 shen Making
DTSTART;TZID=America/New_York:20210221T150000
DTEND;TZID=America/New_York:20210221T173000
END:VEVENT
END:VCALENDAR
