BEGIN:VCALENDAR
PRODID:-//eluceo/ical//2.0/EN
VERSION:2.0
CALSCALE:GREGORIAN
BEGIN:VEVENT
UID:eab8719035e14db20f0558c0ba02357f
DTSTAMP:20260421T000316Z
SUMMARY:PJ/PJOW Fills the Fridge at Worcester Community Fridge
DESCRIPTION:Jewish Federation of Central Massachusetts\nCalendar\nhttps://j
 ewishcentralmass.org/calendar/pjpjow-fills-the-fridge-at-worcester-communi
 ty-fridge\n\nPJ/PJOW Fills the Fridge at Worcester Community Fridge\, Sund
 ay\, November 7th\, 2:30 pm (outdoors\, in-person)
DTSTART;TZID=America/New_York:20211107T143000
DTEND;TZID=America/New_York:20211107T163000
END:VEVENT
END:VCALENDAR
