BEGIN:VCALENDAR
PRODID:-//eluceo/ical//2.0/EN
VERSION:2.0
CALSCALE:GREGORIAN
BEGIN:VEVENT
UID:e7c40823fbebaf0fb41dd2651e395724
DTSTAMP:20260421T225053Z
SUMMARY:PJ/PJOW Challah Making with MetroWest Jewish Day School
DESCRIPTION:Jewish Federation of Central Massachusetts\nCalendar\nhttps://j
 ewishcentralmass.org/calendar/pjpjow-challah-making-with-metrowest-jewish-
 day-school\n\nPJ/PJOW Challah Making with MetroWest Jewish Day School\, No
 vember 11th\, 10:00-11:00 am (outdoors\, in tent)
DTSTART;TZID=America/New_York:20211111T100000
DTEND;TZID=America/New_York:20211111T110000
END:VEVENT
END:VCALENDAR
