BEGIN:VCALENDAR
PRODID:-//eluceo/ical//2.0/EN
VERSION:2.0
CALSCALE:GREGORIAN
BEGIN:VEVENT
UID:f6fba9581c67a693aa5bcd4abaf6e6e8
DTSTAMP:20260422T034844Z
SUMMARY:PJ/PJOW Challah Bake
DESCRIPTION:Jewish Federation of Central Massachusetts\nCalendar\nhttps://j
 ewishcentralmass.org/calendar/pjpjow-challah-bake\n\nPJ/PJOW Challah Bake\
 , September 8th\, 3:00 pm\, Worcester JCC
DTSTART;TZID=America/New_York:20190908T150000
DTEND;TZID=America/New_York:20190908T170000
END:VEVENT
END:VCALENDAR
