BEGIN:VCALENDAR
PRODID:-//eluceo/ical//2.0/EN
VERSION:2.0
CALSCALE:GREGORIAN
BEGIN:VEVENT
UID:c0389efc6e97c79030a139c00849c3d2
DTSTAMP:20260423T134226Z
SUMMARY:PJOW - Wonder Movie
DESCRIPTION:Jewish Federation of Central Massachusetts\nCalendar\nhttps://j
 ewishcentralmass.org/calendar/pjow-wonder-movie\n\n"Chesed" Choose Kind Mo
 vement\n\nMovie - Wonder - Based on the book.\n\nTime & Location TBD\n\nCo
 st - TBD
DTSTART;TZID=America/New_York:20171124T140000
DTEND;TZID=America/New_York:20171124T160000
END:VEVENT
END:VCALENDAR
