BEGIN:VCALENDAR
PRODID:-//eluceo/ical//2.0/EN
VERSION:2.0
CALSCALE:GREGORIAN
BEGIN:VEVENT
UID:b0d41b2a2d3a584fb97c458fc7138ed4
DTSTAMP:20260422T022426Z
SUMMARY:PJOW Simon Says
DESCRIPTION:Jewish Federation of Central Massachusetts\nCalendar\nhttps://j
 ewishcentralmass.org/calendar/pjow-simon-says\n\n"Tikkun Olam" PJOW Simon 
 Says gives pack backpacks
DTSTART;TZID=America/New_York:20180520T160000
DTEND;TZID=America/New_York:20180520T180000
END:VEVENT
END:VCALENDAR
