BEGIN:VCALENDAR
PRODID:-//eluceo/ical//2.0/EN
VERSION:2.0
CALSCALE:GREGORIAN
BEGIN:VEVENT
UID:b4650d7c4d416395a0d4ed800ee90d08
DTSTAMP:20260424T025314Z
SUMMARY:PJOW Purim Event
DESCRIPTION:Jewish Federation of Central Massachusetts\nCalendar\nhttps://j
 ewishcentralmass.org/calendar/pjow-purim-event\n\nPJOW Purim Event\n\n"Che
 sed" - Purim Shared with the Residents of the Willows\n\nPurim Hamantashen
  & Mishloach manot and Purim education with residents at the Willows.
DTSTART;TZID=America/New_York:20180218T160000
DTEND;TZID=America/New_York:20180218T180000
END:VEVENT
END:VCALENDAR
