BEGIN:VCALENDAR
PRODID:-//eluceo/ical//2.0/EN
VERSION:2.0
CALSCALE:GREGORIAN
BEGIN:VEVENT
UID:66b00362469905e181c55022cd5c332f
DTSTAMP:20260422T143914Z
SUMMARY:PJOW Jr. Leadership Meeting2
DESCRIPTION:Jewish Federation of Central Massachusetts\nCalendar\nhttps://j
 ewishcentralmass.org/calendar/pjow-jr-leadership-meeting2\n\nPJOW Jr. Lead
 ership Meeting\, 10:00 am
DTSTART;TZID=America/New_York:20190908T100000
DTEND;TZID=America/New_York:20190908T120000
END:VEVENT
END:VCALENDAR
