BEGIN:VCALENDAR
PRODID:-//eluceo/ical//2.0/EN
VERSION:2.0
CALSCALE:GREGORIAN
BEGIN:VEVENT
UID:db0c5aa2c785d0a414b2c1a8f8df1396
DTSTAMP:20260420T215730Z
SUMMARY:PJOW Hanukkah Tikkun Olam Event
DESCRIPTION:Jewish Federation of Central Massachusetts\nCalendar\nhttps://j
 ewishcentralmass.org/calendar/pjow-hanukkah-tikkun-olam-event\n\nPJOW Hanu
 kkah Tikkun Olam Event\n\nSetting the Stage for Hanukkah - Play rehearsal\
 , Bingo\, snacks and drinks.\n\nJCC Senior Lounge\n\nFree
DTSTART;TZID=America/New_York:20171112T160000
DTEND;TZID=America/New_York:20171112T180000
END:VEVENT
END:VCALENDAR
