BEGIN:VCALENDAR
PRODID:-//eluceo/ical//2.0/EN
VERSION:2.0
CALSCALE:GREGORIAN
BEGIN:VEVENT
UID:58e4df5745f3e1e4cf02e0310e1d9db7
DTSTAMP:20260424T004853Z
SUMMARY:PJOW Event - October '17
DESCRIPTION:Jewish Federation of Central Massachusetts\nCalendar\nhttps://j
 ewishcentralmass.org/calendar/pjow-event-october-17\n\nBuilding Strength a
 nd Building Community at Ultimate Obstacles.\n\n$18pp - click here for mo
 re information.
DTSTART;TZID=America/New_York:20171022T160000
DTEND;TZID=America/New_York:20171022T180000
END:VEVENT
END:VCALENDAR
