BEGIN:VCALENDAR
PRODID:-//eluceo/ical//2.0/EN
VERSION:2.0
CALSCALE:GREGORIAN
BEGIN:VEVENT
UID:682ca2563a67cdee52c9213f71d0ff13
DTSTAMP:20260422T045017Z
SUMMARY:PJOW Event - December
DESCRIPTION:Jewish Federation of Central Massachusetts\nCalendar\nhttps://j
 ewishcentralmass.org/calendar/pjow-event-december\n\nPJOW Event\n\n"Chesed
 " - Sharing Hanukkah with Jewish Health Care and The Eisenberg\, "Hanukkah
 \, Shmanukkah! Readers Theater - The Kosher Christmas Carol"\n\nHanukkah r
 ead-a-long play\, snacks provided by Jewish Health care and donation for f
 ood for Rachel's Table.
DTSTART;TZID=America/New_York:20171217T143000
DTEND;TZID=America/New_York:20171217T163000
END:VEVENT
END:VCALENDAR
