BEGIN:VCALENDAR
PRODID:-//eluceo/ical//2.0/EN
VERSION:2.0
CALSCALE:GREGORIAN
BEGIN:VEVENT
UID:b8de41ce1532d1ba7a6020fbb61f9a9d
DTSTAMP:20260423T124632Z
SUMMARY:PJOW Cotton Jr. Leaders Meeting
DESCRIPTION:Jewish Federation of Central Massachusetts\nCalendar\nhttps://j
 ewishcentralmass.org/calendar/pjow-cotton-jr-leaders-meeting1\n\nSeptember
  10\, 4pm\n\nPJ Our Way Cotton Jr. Leaders\n\nWegman's Dining area\n\nNort
 hborough\, MA
DTSTART;TZID=America/New_York:20170910T160000
DTEND;TZID=America/New_York:20170910T173000
END:VEVENT
END:VCALENDAR
