BEGIN:VCALENDAR
PRODID:-//eluceo/ical//2.0/EN
VERSION:2.0
CALSCALE:GREGORIAN
BEGIN:VEVENT
UID:72096db21496d9af1cff7c640ecdd84d
DTSTAMP:20260423T072818Z
SUMMARY:PJOW Bingo
DESCRIPTION:Jewish Federation of Central Massachusetts\nCalendar\nhttps://j
 ewishcentralmass.org/calendar/pjow-bingo\n\nPJOW Bingo
DTSTART;TZID=America/New_York:20180415T160000
DTEND;TZID=America/New_York:20180415T180000
END:VEVENT
END:VCALENDAR
