BEGIN:VCALENDAR
PRODID:-//eluceo/ical//2.0/EN
VERSION:2.0
CALSCALE:GREGORIAN
BEGIN:VEVENT
UID:270ab90b07438871053489afc16dd2f0
DTSTAMP:20260422T232051Z
SUMMARY:PJOW at the Swim Party
DESCRIPTION:Jewish Federation of Central Massachusetts\nCalendar\nhttps://j
 ewishcentralmass.org/calendar/pjow-at-the-swim-party\n\nPJOW at the Swim P
 arty\n\nPlanting Seeds for the Community\n\nCome for a Winter Splash and T
 u B'Shevat Celebration - JCC Pool - then a snack and drinks from fruits to
  celebrate Tu B'Shevat.
DTSTART;TZID=America/New_York:20180121T160000
DTEND;TZID=America/New_York:20180121T180000
END:VEVENT
END:VCALENDAR
