BEGIN:VCALENDAR
PRODID:-//eluceo/ical//2.0/EN
VERSION:2.0
CALSCALE:GREGORIAN
BEGIN:VEVENT
UID:3a4289aff3e0e905a3ab3e13f0680274
DTSTAMP:20260424T053551Z
SUMMARY:PJLibrary/Beth Israel Passover Program
DESCRIPTION:Jewish Federation of Central Massachusetts\nCalendar\nhttps://j
 ewishcentralmass.org/calendar/pjlibrarybeth-israel-passover-program\n\nPJL
 ibrary/Beth Israel Passover Program\n\nSunday\, April 28th\n\n10:30-12 pm
DTSTART;TZID=America/New_York:20240428T103000
DTEND;TZID=America/New_York:20240428T120000
END:VEVENT
END:VCALENDAR
