BEGIN:VCALENDAR
PRODID:-//eluceo/ical//2.0/EN
VERSION:2.0
CALSCALE:GREGORIAN
BEGIN:VEVENT
UID:bdc4bd6d3dc6a687612fcba56a2d2dd2
DTSTAMP:20260423T034751Z
SUMMARY:PJ Tot Havdalah with Enchanted Animals at CBS
DESCRIPTION:Jewish Federation of Central Massachusetts\nCalendar\nhttps://j
 ewishcentralmass.org/calendar/pj-tot-havdalah-with-enchanted-animals-at-cb
 s\n\nPJ Tot Havdalah with Enchanted Animals at CBS\n\n4:00 pm
DTSTART;TZID=America/New_York:20250510T160000
DTEND;TZID=America/New_York:20250510T180000
END:VEVENT
END:VCALENDAR
