BEGIN:VCALENDAR
PRODID:-//eluceo/ical//2.0/EN
VERSION:2.0
CALSCALE:GREGORIAN
BEGIN:VEVENT
UID:9afa35c13b9a4baa447123d9b81ef14c
DTSTAMP:20260421T041449Z
SUMMARY:PJ Tot Havdalah at CBS
DESCRIPTION:Jewish Federation of Central Massachusetts\nCalendar\nhttps://j
 ewishcentralmass.org/calendar/pj-tot-havdalah-at-cbs\n\nPJ Tot Havdalah at
  CBS\n\n4:00 pm
DTSTART;TZID=America/New_York:20250208T160000
DTEND;TZID=America/New_York:20250208T180000
END:VEVENT
END:VCALENDAR
