BEGIN:VCALENDAR
PRODID:-//eluceo/ical//2.0/EN
VERSION:2.0
CALSCALE:GREGORIAN
BEGIN:VEVENT
UID:89379a3836df498a7c7d6031c1ebf3f8
DTSTAMP:20260422T044055Z
SUMMARY:PJ Sukkot Newcomers 2022
DESCRIPTION:Jewish Federation of Central Massachusetts\nCalendar\nhttps://j
 ewishcentralmass.org/calendar/pj-sukkot-newcomers-2022\n\nOctober 9th at 
 3:00 pm \n\nPJ Sukkot Newcomers
DTSTART;TZID=America/New_York:20221009T150000
DTEND;TZID=America/New_York:20221009T170000
END:VEVENT
END:VCALENDAR
