BEGIN:VCALENDAR
PRODID:-//eluceo/ical//2.0/EN
VERSION:2.0
CALSCALE:GREGORIAN
BEGIN:VEVENT
UID:616577d72415b16dc4c0c247ef84dff9
DTSTAMP:20260423T124720Z
SUMMARY:PJ Storytime with Lori and Friends
DESCRIPTION:Jewish Federation of Central Massachusetts\nCalendar\nhttps://j
 ewishcentralmass.org/calendar/pj-storytime-with-lori-and-friends\n\nPJ Lib
 rary Story Time with Lori & Friends\n\nvia ZOOM\n10 am\n \nLearn about Je
 wish holidays\,\ntraditions\, values\, and\nShabbat through PJ Library\nst
 ories with Lori and Friends.
DTSTART;TZID=America/New_York:20201120T100000
DTEND;TZID=America/New_York:20201120T110000
END:VEVENT
END:VCALENDAR
